{"text_format":"1","workbook":"xlsx","n_sheets":4,"sheets":["メイン","データ","Sheet3","練習問題"],"not_rendered":{"charts":0,"images":0,"macros":1,"external_links":0,"defined_names":0,"comments":0,"pivot_tables":0},"unopened":[],"bounds":{"document_bytes":16777216,"sheet_cells":100000,"rows_first":2000,"rows_last":500,"rows_between":2000,"halvings":0,"cell_chars":16384,"cell_head_chars":4096},"cells_cut":0,"cells_raw":0,"read":"whole","date_system":"1900"}

{"sheet":"メイン","index":0,"n_rows":23,"n_cols":6,"rows_kept":23,"cut":false,"hidden":false,"merged":[[16,5,16,6],[18,5,18,6],[20,5,20,6],[22,5,22,6],[0,1,0,6],[8,5,8,6],[10,5,10,6],[12,5,12,6],[14,5,14,6]]}
[null,"プログラミングⅣ（条件分岐）"]
[]
[]
[null,null,{"$f":"INDEX(データ!$A$2:$F$17,MATCH(1,データ!$A$2:$A$17,0),2)","v":"♠"},{"$f":"INDEX(データ!$A$2:$F$17,MATCH(2,データ!$A$2:$A$17,0),2)","v":"🍚"},{"$f":"INDEX(データ!$A$2:$F$17,MATCH(3,データ!$A$2:$A$17,0),2)","v":"☟"},{"$f":"INDEX(データ!$A$2:$F$17,MATCH(4,データ!$A$2:$A$17,0),2)","v":"☃"}]
[null,null,{"$f":"INDEX(データ!$A$2:$F$17,MATCH(5,データ!$A$2:$A$17,0),2)","v":"♥"},{"$f":"INDEX(データ!$A$2:$F$17,MATCH(6,データ!$A$2:$A$17,0),2)","v":"🍰"},{"$f":"INDEX(データ!$A$2:$F$17,MATCH(7,データ!$A$2:$A$17,0),2)","v":"☜"},{"$f":"INDEX(データ!$A$2:$F$17,MATCH(8,データ!$A$2:$A$17,0),2)","v":"☀"}]
[null,null,{"$f":"INDEX(データ!$A$2:$F$17,MATCH(9,データ!$A$2:$A$17,0),2)","v":"♦"},{"$f":"INDEX(データ!$A$2:$F$17,MATCH(10,データ!$A$2:$A$17,0),2)","v":"🍕"},{"$f":"INDEX(データ!$A$2:$F$17,MATCH(11,データ!$A$2:$A$17,0),2)","v":"☝"},{"$f":"INDEX(データ!$A$2:$F$17,MATCH(12,データ!$A$2:$A$17,0),2)","v":"☁"}]
[null,null,{"$f":"INDEX(データ!$A$2:$F$17,MATCH(13,データ!$A$2:$A$17,0),2)","v":"♣"},{"$f":"INDEX(データ!$A$2:$F$17,MATCH(14,データ!$A$2:$A$17,0),2)","v":"🍲"},{"$f":"INDEX(データ!$A$2:$F$17,MATCH(15,データ!$A$2:$A$17,0),2)","v":"☞"},{"$f":"INDEX(データ!$A$2:$F$17,MATCH(16,データ!$A$2:$A$17,0),2)","v":"☂"}]
[]
[null,"①　指のイラストをすべて選びましょう。",null,null,null,"上指示・下指示・左指示・右指示"]
[]
[null,"②　トランプ記号のイラストをすべて選びましょう。",null,null,null,"スペード・ハート・ダイヤ・クラブ"]
[]
[null,"③　赤色のイラストをすべて選びましょう。",null,null,null,"ケーキ・左指示・ハート・晴"]
[]
[null,"④　緑色のイラストをすべて選びましょう。",null,null,null,"曇・ピザ・ダイヤ・上指示"]
[]
[null,"⑤　指または食べ物のイラストをすべて選びましょう。",null,null,null,"上指示・下指示・左指示・右指示・\n御飯・ケーキ・ピザ・ラーメン"]
[]
[null,"⑥　天気記号またはトランプ記号のイラストをすべて選びましょう。",null,null,null,"スペード・ハート・ダイヤ・クラブ・\n晴・曇・雨・雪"]
[]
[null,"⑦　指さらに緑色のイラストを選びましょう。",null,null,null,"上指示"]
[]
[null,"⑧　天気記号さらに黒色のイラストを選びましょう。",null,null,null,"雪"]

{"sheet":"データ","index":1,"n_rows":17,"n_cols":8,"rows_kept":17,"cut":false,"hidden":false,"merged":[]}
["番","イラスト","名前","位置","色","種類","乱数","乱順"]
[1,"♠","スペード","A1","黒","トランプ",1,{"$f":"RANK(G2,$G$2:$G$17,1)","v":1}]
[2,"🍚","御飯","A2","黒","食べ物",2,{"$f":"RANK(G3,$G$2:$G$17,1)","v":2}]
[3,"☟","下","A3","黒","指",3,3]
[4,"☃","雪","A4","黒","天気マーク",4,4]
[5,"♥","ハート","B1","赤","トランプ",5,5]
[6,"🍰","ケーキ","B2","赤","食べ物",6,6]
[7,"☜","左","B3","赤","指",7,7]
[8,"☀","晴れ","B4","赤","天気マーク",8,8]
[9,"♦","ダイヤ","C1","緑","トランプ",9,9]
[10,"🍕","ケーキ","C2","緑","食べ物",10,10]
[11,"☝","上","C3","緑","指",11,11]
[12,"☁","曇","C4","緑","天気マーク",12,12]
[13,"♣","クラブ","D1","紫","トランプ",13,13]
[14,"🍲","ラーメン","D2","紫","食べ物",14,14]
[15,"☞","右","D3","紫","指",15,15]
[16,"☂","雨","D4","紫","天気マーク",16,16]

{"sheet":"Sheet3","index":2,"n_rows":37,"n_cols":4,"rows_kept":37,"cut":false,"hidden":true,"merged":[]}
[]
[null,1,"指のイラストをすべて選びましょう。","上指示・下指示・左指示・右指示"]
[null,2,"トランプのイラストをすべて選びましょう。","スペード・ハート・ダイヤ・クラブ"]
[null,3,"天気マークのイラストをすべて選びましょう。","晴・曇・雨・雪"]
[null,4,"食べ物のイラストをすべて選びましょう。","御飯・ケーキ・ピザ・ラーメン"]
[null,5,"赤色のイラストをすべて選びましょう。","ケーキ・左指示・ハート・晴"]
[null,6,"緑色のイラストをすべて選びましょう。","曇・ピザ・ダイヤ・上指示"]
[null,7,"黒色のイラストをすべて選びましょう。","御飯・スぺ^度・雪・下指示"]
[null,8,"紫色のイラストをすべて選びましょう。","ダイヤ・雨・ラーメン・右指示"]
[null,9,"指とトランプのイラストをすべて選びましょう。","上指示・下指示・左指示・右指示・スペード・ハート・ダイヤ・クラブ"]
[null,10,"指と天気マークのイラストをすべて選びましょう。","上指示・下指示・左指示・右指示・晴・曇・雨・雪"]
[null,11,"指と食べ物のイラストをすべて選びましょう。","上指示・下指示・左指示・右指示・御飯・ケーキ・ピザ・ラーメン"]
[null,12,"トランプと天気マークのイラストをすべて選びましょう。","スペード・ハート・ダイヤ・クラブ・晴・曇・雨・雪"]
[null,13,"トランプと食べ物のイラストをすべて選びましょう。","スペード・ハート・ダイヤ・クラブ・御飯・ケーキ・ピザ・ラーメン"]
[null,14,"天気マークと食べ物のイラストをすべて選びましょう。","晴・曇・雨・雪・御飯・ケーキ・ピザ・ラーメン"]
[null,15,"赤色と緑色のイラストをすべて選びましょう。","ケーキ・左指示・ハート・晴・曇・ピザ・ダイヤ・上指示"]
[null,16,"赤色と黒色のイラストをすべて選びましょう。","ケーキ・左指示・ハート・晴・御飯・スぺ^度・雪・下指示"]
[null,17,"赤色と紫色のイラストをすべて選びましょう。","ケーキ・左指示・ハート・晴・ダイヤ・雨・ラーメン・右指示"]
[null,18,"緑色と黒色のイラストをすべて選びましょう。","曇・ピザ・ダイヤ・上指示・御飯・スぺ^度・雪・下指示"]
[null,19,"緑色と紫色のイラストをすべて選びましょう。","曇・ピザ・ダイヤ・上指示・ダイヤ・雨・ラーメン・右指示"]
[null,20,"黒色と紫色のイラストをすべて選びましょう。","御飯・スぺ^度・雪・下指示・ダイヤ・雨・ラーメン・右指示"]
[null,21,"指でさらに赤色のイラストをすべて選びましょう。","左指示"]
[null,22,"指でさらに緑色のイラストをすべて選びましょう。","上指示"]
[null,23,"指でさらに黒色のイラストをすべて選びましょう。","下指示"]
[null,24,"指でさらに紫色のイラストをすべて選びましょう。","右指示"]
[null,25,"トランプでさらに赤色のイラストをすべて選びましょう。","ハート"]
[null,26,"トランプでさらに緑色のイラストをすべて選びましょう。","ダイヤ"]
[null,27,"トランプでさらに黒色のイラストをすべて選びましょう。","スペード"]
[null,28,"トランプでさらに紫色のイラストをすべて選びましょう。","クラブ"]
[null,29,"天気マークでさらに赤色のイラストをすべて選びましょう。","晴"]
[null,30,"天気マークでさらに緑色のイラストをすべて選びましょう。","曇"]
[null,31,"天気マークでさらに黒色のイラストをすべて選びましょう。","雪"]
[null,32,"天気マークでさらに紫色のイラストをすべて選びましょう。","雨"]
[null,33,"食べ物でさらに赤色のイラストをすべて選びましょう。","ケーキ"]
[null,34,"食べ物でさらに緑色のイラストをすべて選びましょう。","ピザ"]
[null,35,"食べ物でさらに黒色のイラストをすべて選びましょう。","御飯"]
[null,36,"食べ物でさらに紫色のイラストをすべて選びましょう。","ラーメン"]

{"sheet":"練習問題","index":3,"n_rows":40,"n_cols":10,"rows_kept":40,"cut":false,"hidden":false,"merged":[[27,3,27,6],[31,3,31,6],[35,3,35,6],[39,3,39,6],[0,1,0,6],[11,3,11,6],[15,3,15,6],[19,3,19,6],[23,3,23,6]]}
[null,"プログラミングⅣ（条件分岐）"]
[]
[]
[null,null,{"$f":"INDEX(データ!$A$2:$F$17,MATCH(1,データ!$A$2:$A$17,0),2)","v":"♠"},{"$f":"INDEX(データ!$A$2:$F$17,MATCH(2,データ!$A$2:$A$17,0),2)","v":"🍚"},{"$f":"INDEX(データ!$A$2:$F$17,MATCH(3,データ!$A$2:$A$17,0),2)","v":"☟"},{"$f":"INDEX(データ!$A$2:$F$17,MATCH(4,データ!$A$2:$A$17,0),2)","v":"☃"}]
[null,null,{"$f":"INDEX(データ!$A$2:$F$17,MATCH(5,データ!$A$2:$A$17,0),2)","v":"♥"},{"$f":"INDEX(データ!$A$2:$F$17,MATCH(6,データ!$A$2:$A$17,0),2)","v":"🍰"},{"$f":"INDEX(データ!$A$2:$F$17,MATCH(7,データ!$A$2:$A$17,0),2)","v":"☜"},{"$f":"INDEX(データ!$A$2:$F$17,MATCH(8,データ!$A$2:$A$17,0),2)","v":"☀"}]
[null,null,{"$f":"INDEX(データ!$A$2:$F$17,MATCH(9,データ!$A$2:$A$17,0),2)","v":"♦"},{"$f":"INDEX(データ!$A$2:$F$17,MATCH(10,データ!$A$2:$A$17,0),2)","v":"🍕"},{"$f":"INDEX(データ!$A$2:$F$17,MATCH(11,データ!$A$2:$A$17,0),2)","v":"☝"},{"$f":"INDEX(データ!$A$2:$F$17,MATCH(12,データ!$A$2:$A$17,0),2)","v":"☁"}]
[null,null,{"$f":"INDEX(データ!$A$2:$F$17,MATCH(13,データ!$A$2:$A$17,0),2)","v":"♣"},{"$f":"INDEX(データ!$A$2:$F$17,MATCH(14,データ!$A$2:$A$17,0),2)","v":"🍲"},{"$f":"INDEX(データ!$A$2:$F$17,MATCH(15,データ!$A$2:$A$17,0),2)","v":"☞"},{"$f":"INDEX(データ!$A$2:$F$17,MATCH(16,データ!$A$2:$A$17,0),2)","v":"☂"}]
[]
[]
[null,{"$f":"CONCATENATE(I10,\"  \",VLOOKUP(J10,Sheet3!$B$2:$C$37,2))","v":"①  トランプのイラストをすべて選びましょう。"},null,null,null,null,null,null,"①",2]
[]
[null,null,null,{"$f":"VLOOKUP(J10,Sheet3!$B$2:$D$37,3)","v":"スペード・ハート・ダイヤ・クラブ"}]
[]
[null,{"$f":"CONCATENATE(I14,\"  \",VLOOKUP(J14,Sheet3!$B$2:$C$37,2))","v":"②  緑色のイラストをすべて選びましょう。"},null,null,null,null,null,null,"②",6]
[]
[null,null,null,{"$f":"VLOOKUP(J14,Sheet3!$B$2:$D$37,3)","v":"曇・ピザ・ダイヤ・上指示"}]
[]
[null,{"$f":"CONCATENATE(I18,\"  \",VLOOKUP(J18,Sheet3!$B$2:$C$37,2))","v":"③  トランプと天気マークのイラストをすべて選びましょう。"},null,null,null,null,null,null,"③",12]
[]
[null,null,null,{"$f":"VLOOKUP(J18,Sheet3!$B$2:$D$37,3)","v":"スペード・ハート・ダイヤ・クラブ・晴・曇・雨・雪"}]
[]
[null,{"$f":"CONCATENATE(I22,\"  \",VLOOKUP(J22,Sheet3!$B$2:$C$37,2))","v":"④  緑色と黒色のイラストをすべて選びましょう。"},null,null,null,null,null,null,"④",18]
[]
[null,null,null,{"$f":"VLOOKUP(J22,Sheet3!$B$2:$D$37,3)","v":"曇・ピザ・ダイヤ・上指示・御飯・スぺ^度・雪・下指示"}]
[]
[null,{"$f":"CONCATENATE(I26,\"  \",VLOOKUP(J26,Sheet3!$B$2:$C$37,2))","v":"⑤  指でさらに緑色のイラストをすべて選びましょう。"},null,null,null,null,null,null,"⑤",22]
[]
[null,null,null,{"$f":"VLOOKUP(J26,Sheet3!$B$2:$D$37,3)","v":"上指示"}]
[]
[null,{"$f":"CONCATENATE(I30,\"  \",VLOOKUP(J30,Sheet3!$B$2:$C$37,2))","v":"⑥  トランプでさらに緑色のイラストをすべて選びましょう。"},null,null,null,null,null,null,"⑥",26]
[]
[null,null,null,{"$f":"VLOOKUP(J30,Sheet3!$B$2:$D$37,3)","v":"ダイヤ"}]
[]
[null,{"$f":"CONCATENATE(I34,\"  \",VLOOKUP(J34,Sheet3!$B$2:$C$37,2))","v":"⑦  天気マークでさらに紫色のイラストをすべて選びましょう。"},null,null,null,null,null,null,"⑦",32]
[]
[null,null,null,{"$f":"VLOOKUP(J34,Sheet3!$B$2:$D$37,3)","v":"雨"}]
[]
[null,{"$f":"CONCATENATE(I38,\"  \",VLOOKUP(J38,Sheet3!$B$2:$C$37,2))","v":"⑧  食べ物でさらに紫色のイラストをすべて選びましょう。"},null,null,null,null,null,null,"⑧",36]
[]
[null,null,null,{"$f":"VLOOKUP(J38,Sheet3!$B$2:$D$37,3)","v":"ラーメン"}]