{"text_format":"1","workbook":"xlsx","n_sheets":3,"sheets":["メイン","イラスト","練習問題"],"not_rendered":{"charts":0,"images":2,"macros":1,"external_links":0,"defined_names":2,"comments":0,"pivot_tables":0},"unopened":[],"bounds":{"document_bytes":16777216,"sheet_cells":100000,"rows_first":2000,"rows_last":500,"rows_between":2000,"halvings":0,"cell_chars":16384,"cell_head_chars":4096},"cells_cut":0,"cells_raw":0,"read":"whole","date_system":"1900"}

{"sheet":"メイン","index":0,"n_rows":14,"n_cols":14,"rows_kept":14,"cut":false,"hidden":false,"merged":[[5,2,5,3],[5,4,5,5],[5,6,5,7],[5,8,5,9],[1,1,1,10],[4,2,4,3],[4,4,4,5],[4,6,4,7],[4,8,4,9],[3,2,3,3],[3,4,3,5],[3,6,3,7],[3,8,3,9],[11,7,11,9],[13,7,13,9],[6,4,6,5],[8,2,8,3],[8,4,8,5],[8,6,8,7],[8,8,8,9],[6,6,6,7],[6,8,6,9],[7,2,7,3],[7,4,7,5],[7,6,7,7],[7,8,7,9],[6,2,6,3]]}
[]
[null,"プログラム学習Ⅰ（座標）",null,null,null,null,null,null,null,null,null,null,15,11]
[]
[null,null,"Ａ",null,"Ｂ",null,"Ｃ",null,"Ｄ"]
[null,1,"☀",null,"☁",null,"☂",null,"☃"]
[null,2,"♠",null,"♣",null,"♥",null,"♦"]
[null,3,"😃",null,"😠",null,"😢",null,"😔"]
[null,4,"🐢",null,"🐒",null,"🐑",null,"🐓"]
[null,5,"🚁",null,"🚒",null,"🚓",null,"🚀"]
[]
[null,"①　次の位置のイラストの名前を答えましょう。"]
[null,null,"(",{"$f":"VLOOKUP($M$2,イラスト!$B$3:$F$22,4,FALSE)","v":"Ｃ"},"，",{"$f":"VLOOKUP($M$2,イラスト!$B$3:$F$22,5,FALSE)","v":4},"）",{"$f":"VLOOKUP($M$2,イラスト!$B$3:$F$22,3,FALSE)","v":"ひつじ"},{"$f":"VLOOKUP($M$2,イラスト!$B$3:$F$22,4,FALSE)","v":"Ｃ"},{"$f":"VLOOKUP($M$2,イラスト!$B$3:$F$22,4,FALSE)","v":"Ｃ"}]
[null,"②　次の名前のイラストの位置を答えましょう。"]
[null,null,"(",{"$f":"VLOOKUP($N$2,イラスト!$B$3:$F$22,4,FALSE)","v":"Ｃ"},"，",{"$f":"VLOOKUP($N$2,イラスト!$B$3:$F$22,5,FALSE)","v":3},"）",{"$f":"VLOOKUP($N$2,イラスト!$B$3:$F$22,3,FALSE)","v":"涙顔"},{"$f":"VLOOKUP($M$2,イラスト!$B$3:$F$22,4,FALSE)","v":"Ｃ"},{"$f":"VLOOKUP($M$2,イラスト!$B$3:$F$22,4,FALSE)","v":"Ｃ"}]

{"sheet":"イラスト","index":1,"n_rows":22,"n_cols":6,"rows_kept":22,"cut":false,"hidden":true,"merged":[]}
[]
[null,"番","イラスト","名前","縦","横"]
[null,1,"☀","晴れ","Ａ",1]
[null,2,"☁","くもり","Ｂ",1]
[null,3,"☂","雨","Ｃ",1]
[null,4,"☃","雪","Ｄ",1]
[null,5,"♠","スペード","Ａ",2]
[null,6,"♣","クローバー","Ｂ",2]
[null,7,"♥","ハート","Ｃ",2]
[null,8,"♦","ダイヤ","Ｄ",2]
[null,9,"😃","笑い顔","Ａ",3]
[null,10,"😠","怒り顔","Ｂ",3]
[null,11,"😢","涙顔","Ｃ",3]
[null,12,"😔","悩み顔","Ｄ",3]
[null,13,"🐢","かめ","Ａ",4]
[null,14,"🐒","さる","Ｂ",4]
[null,15,"🐑","ひつじ","Ｃ",4]
[null,16,"🐓","にわとり","Ｄ",4]
[null,17,"🚁","ヘリコプター","Ａ",5]
[null,18,"🚒","トラック","Ｂ",5]
[null,19,"🚓","タクシー","Ｃ",5]
[null,20,"🚀","ロケット","Ｄ",5]

{"sheet":"練習問題","index":2,"n_rows":19,"n_cols":19,"rows_kept":19,"cut":false,"hidden":false,"merged":[[1,0,1,15]]}
[]
["プログラミング学習Ⅰ（座標）　練習問題"]
[]
[]
[]
[]
[]
[]
[]
["①","（",{"$f":"VLOOKUP(S10,イラスト!$B$3:$F$22,4)","v":"Ｂ"},"，",{"$f":"VLOOKUP($S10,イラスト!$B$3:$F$22,5)","v":2},"）",{"$f":"VLOOKUP($S10,イラスト!$B$3:$F$22,3)","v":"クローバー"},null,"⑥",null,{"$f":"VLOOKUP($S11,イラスト!$B$3:$F$22,3)","v":"晴れ"},"（",{"$f":"VLOOKUP($S11,イラスト!$B$3:$F$22,4)","v":"Ａ"},"，",{"$f":"VLOOKUP($S11,イラスト!$B$3:$F$22,5)","v":1},"）",null,null,6]
[null,null,null,null,null,null,null,null,null,null,null,null,null,null,null,null,null,null,1]
["②","（",{"$f":"VLOOKUP($S12,イラスト!$B$3:$F$22,4)","v":"Ｂ"},"，",{"$f":"VLOOKUP($S12,イラスト!$B$3:$F$22,5)","v":2},"）",{"$f":"VLOOKUP($S12,イラスト!$B$3:$F$22,3)","v":"クローバー"},null,"⑦",null,{"$f":"VLOOKUP($S13,イラスト!$B$3:$F$22,3)","v":"ダイヤ"},"（",{"$f":"VLOOKUP($S13,イラスト!$B$3:$F$22,4)","v":"Ｄ"},"，",{"$f":"VLOOKUP($S13,イラスト!$B$3:$F$22,5)","v":2},"）",null,null,6]
[null,null,null,null,null,null,null,null,null,null,null,null,null,null,null,null,null,null,8]
["③","（",{"$f":"VLOOKUP(S14,イラスト!$B$3:$F$22,4)","v":"Ｃ"},"，",{"$f":"VLOOKUP($S14,イラスト!$B$3:$F$22,5)","v":2},"）",{"$f":"VLOOKUP($S14,イラスト!$B$3:$F$22,3)","v":"ハート"},null,"⑧",null,{"$f":"VLOOKUP($S15,イラスト!$B$3:$F$22,3)","v":"タクシー"},"（",{"$f":"VLOOKUP($S15,イラスト!$B$3:$F$22,4)","v":"Ｃ"},"，",{"$f":"VLOOKUP($S15,イラスト!$B$3:$F$22,5)","v":5},"）",null,null,7]
[null,null,null,null,null,null,null,null,null,null,null,null,null,null,null,null,null,null,19]
["④","（",{"$f":"VLOOKUP(S16,イラスト!$B$3:$F$22,4)","v":"Ｄ"},"，",{"$f":"VLOOKUP($S16,イラスト!$B$3:$F$22,5)","v":5},"）",{"$f":"VLOOKUP($S16,イラスト!$B$3:$F$22,3)","v":"ロケット"},null,"⑨",null,{"$f":"VLOOKUP($S17,イラスト!$B$3:$F$22,3)","v":"笑い顔"},"（",{"$f":"VLOOKUP($S17,イラスト!$B$3:$F$22,4)","v":"Ａ"},"，",{"$f":"VLOOKUP($S17,イラスト!$B$3:$F$22,5)","v":3},"）",null,null,20]
[null,null,null,null,null,null,null,null,null,null,null,null,null,null,null,null,null,null,9]
["⑤","（",{"$f":"VLOOKUP(S18,イラスト!$B$3:$F$22,4)","v":"Ｂ"},"，",{"$f":"VLOOKUP($S18,イラスト!$B$3:$F$22,5)","v":2},"）",{"$f":"VLOOKUP($S18,イラスト!$B$3:$F$22,3)","v":"クローバー"},null,"⑩",null,{"$f":"VLOOKUP($S19,イラスト!$B$3:$F$22,3)","v":"雪"},"（",{"$f":"VLOOKUP($S19,イラスト!$B$3:$F$22,4)","v":"Ｄ"},"，",{"$f":"VLOOKUP($S19,イラスト!$B$3:$F$22,5)","v":1},"）",null,null,6]
[null,null,null,null,null,null,null,null,null,null,null,null,null,null,null,null,null,null,4]